BEGIN:VCALENDAR
VERSION:2.0
CREATED:20260423T145122Z
PRODID:-//ARKO Corp./Equisolve Calendar v1.0//EN
METHOD:PUBLISH
BEGIN:VEVENT
UID:da893994a9a84f960920b6103d5beca4
DTSTAMP:20260424T121257Z
DTSTART:20260507T130000Z
DTEND:20260507T140000Z
SUMMARY:First Quarter 2026 Financial Results Conference Call
DESCRIPTION:First Quarter 2026 Financial Results Conference Call\n\nDate: May 7\, 2026 9:00 am EDT\n\nWebcast: https://event.choruscall.com/mediaframe/webcast.html?webcastid=CkI5Art8
END:VEVENT
END:VCALENDAR
