BEGIN:VCALENDAR
VERSION:2.0
CREATED:20260420T161259Z
PRODID:-//ARKO Corp./Equisolve Calendar v1.0//EN
METHOD:PUBLISH
BEGIN:VEVENT
UID:162f63026bb9195801d5a5cabf4d577f
DTSTAMP:20260421T102733Z
DTSTART:20260604T140000Z
DTEND:20260604T150000Z
SUMMARY:2026 Annual Meeting of Stockholders
DESCRIPTION:2026 Annual Meeting of Stockholders\n\nDate: Jun 4\, 2026 10:00 am EDT\n\nWebcast: https://central.virtualshareholdermeeting.com/vsm/web?pvskey=ARKO2026
END:VEVENT
END:VCALENDAR
